BEGIN:VCALENDAR
VERSION:2.0
PRODID:icalendar-ruby
CALSCALE:GREGORIAN
METHOD:PUBLISH
BEGIN:VEVENT
DTSTAMP:20260419T171946Z
UID:5-394385@firstlutheran186.tithelysetup2.com
DTSTART:20260913T153000Z
DTEND:20260913T163000Z
CLASS:PUBLIC
CREATED:20260413T141537
DESCRIPTION:Sunday Worship
LAST-MODIFIED:20260413T141537
LOCATION:
SUMMARY:Sunday Worship
URL;VALUE=URI:https://firstlutheran186.tithelysetup2.com/events/sunday-wors
 hip/2026-09-13
END:VEVENT
END:VCALENDAR
